BEGIN:VCALENDAR
VERSION:2.0
PRODID:-//Projektijuhtimine - ECPv4.0.2//NONSGML v1.0//EN
CALSCALE:GREGORIAN
METHOD:PUBLISH
X-WR-CALNAME:Projektijuhtimine
X-ORIGINAL-URL:https://www.projektijuhtimine.ee
X-WR-CALDESC:Events for Projektijuhtimine
BEGIN:VEVENT
DTSTART;VALUE=DATE:20171108
DTEND;VALUE=DATE:20171122
DTSTAMP:20260422T051705
CREATED:20160816
LAST-MODIFIED:20160816
UID:1904-1510099200-1511395199@www.projektijuhtimine.ee
SUMMARY:Professionaalne projektijuhtimine 2. osa
DESCRIPTION:Koolituse info\, ajakava ja registreerimise leiad SIIT
URL:https://www.projektijuhtimine.ee/koolituskalender/professionaalne-projektijuhtimine-2-osa-3/
END:VEVENT
END:VCALENDAR